BEGIN:VCALENDAR
VERSION:2.0
PRODID:-//Sri Dasmesh International School - ECPv5.7.0//NONSGML v1.0//EN
CALSCALE:GREGORIAN
METHOD:PUBLISH
X-WR-CALNAME:Sri Dasmesh International School
X-ORIGINAL-URL:https://sridasmesh.edu.my
X-WR-CALDESC:Events for Sri Dasmesh International School
BEGIN:VTIMEZONE
TZID:Asia/Shanghai
BEGIN:STANDARD
TZOFFSETFROM:+0800
TZOFFSETTO:+0800
TZNAME:CST
DTSTART:20220101T000000
END:STANDARD
END:VTIMEZONE
BEGIN:VEVENT
DTSTART;VALUE=DATE:20231225
DTEND;VALUE=DATE:20231227
DTSTAMP:20260423T201159
CREATED:20221228T163244Z
LAST-MODIFIED:20221228T163244Z
UID:10472-1703462400-1703635199@sridasmesh.edu.my
SUMMARY:Christmas
DESCRIPTION:
URL:https://sridasmesh.edu.my/event/christmas-2/
CATEGORIES:Public Holiday
END:VEVENT
BEGIN:VEVENT
DTSTART;VALUE=DATE:20230929
DTEND;VALUE=DATE:20230930
DTSTAMP:20260423T201159
CREATED:20221228T161348Z
LAST-MODIFIED:20221228T161348Z
UID:10436-1695945600-1696031999@sridasmesh.edu.my
SUMMARY:Prophet Muhammad’s Birthday
DESCRIPTION:
URL:https://sridasmesh.edu.my/event/prophet-muhammads-birthday/
CATEGORIES:Public Holiday
END:VEVENT
BEGIN:VEVENT
DTSTART;VALUE=DATE:20230916
DTEND;VALUE=DATE:20230917
DTSTAMP:20260423T201159
CREATED:20221228T161255Z
LAST-MODIFIED:20221228T161255Z
UID:10435-1694822400-1694908799@sridasmesh.edu.my
SUMMARY:Malaysia Day
DESCRIPTION:
URL:https://sridasmesh.edu.my/event/malaysia-day-3/
CATEGORIES:Public Holiday
END:VEVENT
BEGIN:VEVENT
DTSTART;VALUE=DATE:20230831
DTEND;VALUE=DATE:20230901
DTSTAMP:20260423T201159
CREATED:20221228T160832Z
LAST-MODIFIED:20221228T160832Z
UID:10417-1693440000-1693526399@sridasmesh.edu.my
SUMMARY:National Day
DESCRIPTION:
URL:https://sridasmesh.edu.my/event/national-day-3/
CATEGORIES:Public Holiday
END:VEVENT
BEGIN:VEVENT
DTSTART;VALUE=DATE:20230719
DTEND;VALUE=DATE:20230720
DTSTAMP:20260423T201159
CREATED:20221228T160013Z
LAST-MODIFIED:20221228T160013Z
UID:10409-1689724800-1689811199@sridasmesh.edu.my
SUMMARY:Awal Muharram
DESCRIPTION:
URL:https://sridasmesh.edu.my/event/awal-muharram-3/
CATEGORIES:Public Holiday
END:VEVENT
BEGIN:VEVENT
DTSTART;VALUE=DATE:20230629
DTEND;VALUE=DATE:20230630
DTSTAMP:20260423T201159
CREATED:20221228T155555Z
LAST-MODIFIED:20221228T155555Z
UID:10397-1687996800-1688083199@sridasmesh.edu.my
SUMMARY:Hari Raya Haji
DESCRIPTION:
URL:https://sridasmesh.edu.my/event/hari-raya-haji-3/
CATEGORIES:Public Holiday
END:VEVENT
BEGIN:VEVENT
DTSTART;VALUE=DATE:20230605
DTEND;VALUE=DATE:20230606
DTSTAMP:20260423T201159
CREATED:20221228T155500Z
LAST-MODIFIED:20221228T155500Z
UID:10395-1685923200-1686009599@sridasmesh.edu.my
SUMMARY:Agong’s Birthday
DESCRIPTION:
URL:https://sridasmesh.edu.my/event/agongs-birthday-3/
CATEGORIES:Public Holiday
END:VEVENT
BEGIN:VEVENT
DTSTART;VALUE=DATE:20230504
DTEND;VALUE=DATE:20230505
DTSTAMP:20260423T201159
CREATED:20221228T155226Z
LAST-MODIFIED:20221228T155226Z
UID:10379-1683158400-1683244799@sridasmesh.edu.my
SUMMARY:Wesak Day
DESCRIPTION:
URL:https://sridasmesh.edu.my/event/wesak-day-3/
CATEGORIES:Public Holiday
END:VEVENT
BEGIN:VEVENT
DTSTART;VALUE=DATE:20230501
DTEND;VALUE=DATE:20230502
DTSTAMP:20260423T201159
CREATED:20221228T155204Z
LAST-MODIFIED:20221228T155204Z
UID:10378-1682899200-1682985599@sridasmesh.edu.my
SUMMARY:Labour Day
DESCRIPTION:
URL:https://sridasmesh.edu.my/event/labour-day-3/
CATEGORIES:Public Holiday
END:VEVENT
BEGIN:VEVENT
DTSTART;VALUE=DATE:20230421
DTEND;VALUE=DATE:20230425
DTSTAMP:20260423T201159
CREATED:20221228T154945Z
LAST-MODIFIED:20230420T022144Z
UID:10372-1682035200-1682380799@sridasmesh.edu.my
SUMMARY:Hari Raya Aidilfitri
DESCRIPTION:
URL:https://sridasmesh.edu.my/event/hari-raya-aidilfitri/
CATEGORIES:Public Holiday
END:VEVENT
BEGIN:VEVENT
DTSTART;VALUE=DATE:20230408
DTEND;VALUE=DATE:20230409
DTSTAMP:20260423T201159
CREATED:20221228T154852Z
LAST-MODIFIED:20221228T154852Z
UID:10370-1680912000-1680998399@sridasmesh.edu.my
SUMMARY:Nuzul Al-Quran
DESCRIPTION:
URL:https://sridasmesh.edu.my/event/nuzul-al-quran-3/
CATEGORIES:Public Holiday
END:VEVENT
BEGIN:VEVENT
DTSTART;VALUE=DATE:20230205
DTEND;VALUE=DATE:20230207
DTSTAMP:20260423T201159
CREATED:20221228T154445Z
LAST-MODIFIED:20221228T154445Z
UID:10360-1675555200-1675727999@sridasmesh.edu.my
SUMMARY:Thaipusam
DESCRIPTION:
URL:https://sridasmesh.edu.my/event/thaipusam/
CATEGORIES:Public Holiday
END:VEVENT
BEGIN:VEVENT
DTSTART;VALUE=DATE:20230201
DTEND;VALUE=DATE:20230202
DTSTAMP:20260423T201159
CREATED:20221228T154359Z
LAST-MODIFIED:20221228T154359Z
UID:10359-1675209600-1675295999@sridasmesh.edu.my
SUMMARY:FT Day
DESCRIPTION:
URL:https://sridasmesh.edu.my/event/ft-day/
CATEGORIES:Public Holiday
END:VEVENT
BEGIN:VEVENT
DTSTART;VALUE=DATE:20230122
DTEND;VALUE=DATE:20230125
DTSTAMP:20260423T201159
CREATED:20221228T154138Z
LAST-MODIFIED:20221228T154138Z
UID:10348-1674345600-1674604799@sridasmesh.edu.my
SUMMARY:Chinese New Year 2023
DESCRIPTION:
URL:https://sridasmesh.edu.my/event/chinese-new-year-2023/
CATEGORIES:Holiday/s,Public Holiday
END:VEVENT
BEGIN:VEVENT
DTSTART;VALUE=DATE:20221225
DTEND;VALUE=DATE:20221227
DTSTAMP:20260423T201159
CREATED:20220208T142715Z
LAST-MODIFIED:20220208T142715Z
UID:8875-1671926400-1672099199@sridasmesh.edu.my
SUMMARY:Christmas
DESCRIPTION:
URL:https://sridasmesh.edu.my/event/christmas/
CATEGORIES:Public Holiday
END:VEVENT
BEGIN:VEVENT
DTSTART;VALUE=DATE:20221024
DTEND;VALUE=DATE:20221026
DTSTAMP:20260423T201159
CREATED:20220208T141722Z
LAST-MODIFIED:20220208T141722Z
UID:8853-1666569600-1666742399@sridasmesh.edu.my
SUMMARY:Deepavali
DESCRIPTION:
URL:https://sridasmesh.edu.my/event/deepavali-2/
CATEGORIES:Public Holiday
END:VEVENT
BEGIN:VEVENT
DTSTART;VALUE=DATE:20221009
DTEND;VALUE=DATE:20221011
DTSTAMP:20260423T201159
CREATED:20220208T141647Z
LAST-MODIFIED:20220208T141647Z
UID:8851-1665273600-1665446399@sridasmesh.edu.my
SUMMARY:Prophet Md B/day
DESCRIPTION:
URL:https://sridasmesh.edu.my/event/prophet-md-b-day-2/
CATEGORIES:Public Holiday
END:VEVENT
BEGIN:VEVENT
DTSTART;VALUE=DATE:20220916
DTEND;VALUE=DATE:20220917
DTSTAMP:20260423T201159
CREATED:20220208T081326Z
LAST-MODIFIED:20220208T081326Z
UID:8835-1663286400-1663372799@sridasmesh.edu.my
SUMMARY:Malaysia Day
DESCRIPTION:
URL:https://sridasmesh.edu.my/event/malaysia-day-2/
CATEGORIES:Public Holiday
END:VEVENT
BEGIN:VEVENT
DTSTART;VALUE=DATE:20220831
DTEND;VALUE=DATE:20220901
DTSTAMP:20260423T201159
CREATED:20220208T080326Z
LAST-MODIFIED:20220208T080326Z
UID:8826-1661904000-1661990399@sridasmesh.edu.my
SUMMARY:National Day
DESCRIPTION:
URL:https://sridasmesh.edu.my/event/national-day-2/
CATEGORIES:Public Holiday
END:VEVENT
BEGIN:VEVENT
DTSTART;VALUE=DATE:20220730
DTEND;VALUE=DATE:20220731
DTSTAMP:20260423T201159
CREATED:20220208T075132Z
LAST-MODIFIED:20220208T075132Z
UID:8814-1659139200-1659225599@sridasmesh.edu.my
SUMMARY:Awal Muharram
DESCRIPTION:
URL:https://sridasmesh.edu.my/event/awal-muharram-2/
CATEGORIES:Public Holiday
END:VEVENT
BEGIN:VEVENT
DTSTART;VALUE=DATE:20220710
DTEND;VALUE=DATE:20220712
DTSTAMP:20260423T201159
CREATED:20220208T074917Z
LAST-MODIFIED:20220208T075025Z
UID:8811-1657411200-1657583999@sridasmesh.edu.my
SUMMARY:Hari Raya Haji
DESCRIPTION:
URL:https://sridasmesh.edu.my/event/hari-raya-haji-2/
CATEGORIES:Public Holiday
END:VEVENT
BEGIN:VEVENT
DTSTART;VALUE=DATE:20220616
DTEND;VALUE=DATE:20220617
DTSTAMP:20260423T201159
CREATED:20220208T074314Z
LAST-MODIFIED:20220208T074314Z
UID:8801-1655337600-1655423999@sridasmesh.edu.my
SUMMARY:Agong’s Birthday
DESCRIPTION:
URL:https://sridasmesh.edu.my/event/agongs-birthday-2/
CATEGORIES:Public Holiday
END:VEVENT
BEGIN:VEVENT
DTSTART;VALUE=DATE:20220515
DTEND;VALUE=DATE:20220517
DTSTAMP:20260423T201159
CREATED:20220208T072500Z
LAST-MODIFIED:20220208T072500Z
UID:8793-1652572800-1652745599@sridasmesh.edu.my
SUMMARY:Wesak Day
DESCRIPTION:
URL:https://sridasmesh.edu.my/event/wesak-day-2/
CATEGORIES:Public Holiday
END:VEVENT
BEGIN:VEVENT
DTSTART;VALUE=DATE:20220501
DTEND;VALUE=DATE:20220503
DTSTAMP:20260423T201159
CREATED:20220208T072250Z
LAST-MODIFIED:20220208T072250Z
UID:8791-1651363200-1651535999@sridasmesh.edu.my
SUMMARY:Labour Day
DESCRIPTION:
URL:https://sridasmesh.edu.my/event/labour-day-2/
CATEGORIES:Public Holiday
END:VEVENT
BEGIN:VEVENT
DTSTART;VALUE=DATE:20220419
DTEND;VALUE=DATE:20220420
DTSTAMP:20260423T201159
CREATED:20220208T072004Z
LAST-MODIFIED:20220208T072048Z
UID:8785-1650326400-1650412799@sridasmesh.edu.my
SUMMARY:Nuzul Al-Quran
DESCRIPTION:
URL:https://sridasmesh.edu.my/event/nuzul-al-quran-2/
CATEGORIES:Public Holiday
END:VEVENT
END:VCALENDAR