BEGIN:VCALENDAR
VERSION:2.0
PRODID:-//Sri Dasmesh International School - ECPv5.7.0//NONSGML v1.0//EN
CALSCALE:GREGORIAN
METHOD:PUBLISH
X-WR-CALNAME:Sri Dasmesh International School
X-ORIGINAL-URL:https://sridasmesh.edu.my
X-WR-CALDESC:Events for Sri Dasmesh International School
BEGIN:VTIMEZONE
TZID:Asia/Shanghai
BEGIN:STANDARD
TZOFFSETFROM:+0800
TZOFFSETTO:+0800
TZNAME:CST
DTSTART:20260101T000000
END:STANDARD
END:VTIMEZONE
BEGIN:VEVENT
DTSTART;VALUE=DATE:20260601
DTEND;VALUE=DATE:20260602
DTSTAMP:20260421T072703
CREATED:20260121T063246Z
LAST-MODIFIED:20260121T063246Z
UID:19840-1780272000-1780358399@sridasmesh.edu.my
SUMMARY:Agong's Birthday 2026
DESCRIPTION:
URL:https://sridasmesh.edu.my/event/agongs-birthday-2026/
CATEGORIES:Holiday/s
END:VEVENT
BEGIN:VEVENT
DTSTART;VALUE=DATE:20260613
DTEND;VALUE=DATE:20260706
DTSTAMP:20260421T072703
CREATED:20260121T063336Z
LAST-MODIFIED:20260121T063336Z
UID:19844-1781308800-1783295999@sridasmesh.edu.my
SUMMARY:Mid Year Break 2026
DESCRIPTION:
URL:https://sridasmesh.edu.my/event/mid-year-break-2026/
CATEGORIES:Holiday/s
END:VEVENT
BEGIN:VEVENT
DTSTART;VALUE=DATE:20260617
DTEND;VALUE=DATE:20260618
DTSTAMP:20260421T072703
CREATED:20260121T063336Z
LAST-MODIFIED:20260121T063336Z
UID:19845-1781654400-1781740799@sridasmesh.edu.my
SUMMARY:Awal Muharram 2026
DESCRIPTION:
URL:https://sridasmesh.edu.my/event/awal-muharram-2026/
CATEGORIES:Holiday/s
END:VEVENT
BEGIN:VEVENT
DTSTART;VALUE=DATE:20261108
DTEND;VALUE=DATE:20261109
DTSTAMP:20260421T072703
CREATED:20260121T063103Z
LAST-MODIFIED:20260121T063103Z
UID:19806-1794096000-1794182399@sridasmesh.edu.my
SUMMARY:Deepavali 2026
DESCRIPTION:
URL:https://sridasmesh.edu.my/event/deepavali-2026/
CATEGORIES:Holiday/s
END:VEVENT
BEGIN:VEVENT
DTSTART;VALUE=DATE:20261116
DTEND;VALUE=DATE:20261117
DTSTAMP:20260421T072703
CREATED:20260121T063104Z
LAST-MODIFIED:20260121T063104Z
UID:19810-1794787200-1794873599@sridasmesh.edu.my
SUMMARY:Year End Break 2026
DESCRIPTION:
URL:https://sridasmesh.edu.my/event/year-end-break-2026/
CATEGORIES:Holiday/s
END:VEVENT
BEGIN:VEVENT
DTSTART;VALUE=DATE:20261124
DTEND;VALUE=DATE:20261125
DTSTAMP:20260421T072703
CREATED:20260121T063104Z
LAST-MODIFIED:20260121T063104Z
UID:19811-1795478400-1795564799@sridasmesh.edu.my
SUMMARY:Guru Nanak's Birthday 2026
DESCRIPTION:
URL:https://sridasmesh.edu.my/event/guru-nanaks-birthday-2026/
CATEGORIES:Holiday/s
END:VEVENT
BEGIN:VEVENT
DTSTART;VALUE=DATE:20261225
DTEND;VALUE=DATE:20261226
DTSTAMP:20260421T072703
CREATED:20260121T063105Z
LAST-MODIFIED:20260121T063105Z
UID:19813-1798156800-1798243199@sridasmesh.edu.my
SUMMARY:Christmas 2026
DESCRIPTION:
URL:https://sridasmesh.edu.my/event/christmas-2026/
CATEGORIES:Holiday/s
END:VEVENT
END:VCALENDAR