BEGIN:VCALENDAR
VERSION:2.0
PRODID:-//Sri Dasmesh International School - ECPv5.7.0//NONSGML v1.0//EN
CALSCALE:GREGORIAN
METHOD:PUBLISH
X-WR-CALNAME:Sri Dasmesh International School
X-ORIGINAL-URL:https://sridasmesh.edu.my
X-WR-CALDESC:Events for Sri Dasmesh International School
BEGIN:VTIMEZONE
TZID:Asia/Shanghai
BEGIN:STANDARD
TZOFFSETFROM:+0800
TZOFFSETTO:+0800
TZNAME:CST
DTSTART:20260101T000000
END:STANDARD
END:VTIMEZONE
BEGIN:VEVENT
DTSTART;VALUE=DATE:20260315
DTEND;VALUE=DATE:20260330
DTSTAMP:20260421T083917
CREATED:20260121T063215Z
LAST-MODIFIED:20260121T063215Z
UID:19829-1773532800-1774828799@sridasmesh.edu.my
SUMMARY:1st Term Break 2026
DESCRIPTION:
URL:https://sridasmesh.edu.my/event/1st-term-break-2026/
CATEGORIES:Holiday/s
END:VEVENT
END:VCALENDAR