BEGIN:VCALENDAR
VERSION:2.0
PRODID:-//Sri Dasmesh International School - ECPv5.7.0//NONSGML v1.0//EN
CALSCALE:GREGORIAN
METHOD:PUBLISH
X-WR-CALNAME:Sri Dasmesh International School
X-ORIGINAL-URL:https://sridasmesh.edu.my
X-WR-CALDESC:Events for Sri Dasmesh International School
BEGIN:VTIMEZONE
TZID:Asia/Shanghai
BEGIN:STANDARD
TZOFFSETFROM:+0800
TZOFFSETTO:+0800
TZNAME:CST
DTSTART:20240101T000000
END:STANDARD
END:VTIMEZONE
BEGIN:VEVENT
DTSTART;VALUE=DATE:20240615
DTEND;VALUE=DATE:20240701
DTSTAMP:20260421T095923
CREATED:20231217T141132Z
LAST-MODIFIED:20231217T141132Z
UID:14543-1718409600-1719791999@sridasmesh.edu.my
SUMMARY:Mid Year Break 2024
DESCRIPTION:
URL:https://sridasmesh.edu.my/event/mid-year-break-2024/
CATEGORIES:Holiday/s
END:VEVENT
END:VCALENDAR