BEGIN:VCALENDAR
VERSION:2.0
PRODID:-//Sri Dasmesh International School - ECPv5.7.0//NONSGML v1.0//EN
CALSCALE:GREGORIAN
METHOD:PUBLISH
X-WR-CALNAME:Sri Dasmesh International School
X-ORIGINAL-URL:https://sridasmesh.edu.my
X-WR-CALDESC:Events for Sri Dasmesh International School
BEGIN:VTIMEZONE
TZID:Asia/Shanghai
BEGIN:STANDARD
TZOFFSETFROM:+0800
TZOFFSETTO:+0800
TZNAME:CST
DTSTART:20230101T000000
END:STANDARD
END:VTIMEZONE
BEGIN:VEVENT
DTSTART;VALUE=DATE:20230319
DTEND;VALUE=DATE:20230403
DTSTAMP:20260424T043801
CREATED:20221228T154700Z
LAST-MODIFIED:20230221T124534Z
UID:10364-1679184000-1680479999@sridasmesh.edu.my
SUMMARY:1st Term Break
DESCRIPTION:
URL:https://sridasmesh.edu.my/event/1st-term-break-3/
CATEGORIES:Holiday/s
END:VEVENT
END:VCALENDAR