BEGIN:VCALENDAR
VERSION:2.0
PRODID:-//Sri Dasmesh International School - ECPv5.7.0//NONSGML v1.0//EN
CALSCALE:GREGORIAN
METHOD:PUBLISH
X-WR-CALNAME:Sri Dasmesh International School
X-ORIGINAL-URL:https://sridasmesh.edu.my
X-WR-CALDESC:Events for Sri Dasmesh International School
BEGIN:VTIMEZONE
TZID:Asia/Shanghai
BEGIN:STANDARD
TZOFFSETFROM:+0800
TZOFFSETTO:+0800
TZNAME:CST
DTSTART:20240101T000000
END:STANDARD
END:VTIMEZONE
BEGIN:VEVENT
DTSTART;VALUE=DATE:20240707
DTEND;VALUE=DATE:20240709
DTSTAMP:20260421T063050
CREATED:20231217T141133Z
LAST-MODIFIED:20231217T141133Z
UID:14545-1720310400-1720483199@sridasmesh.edu.my
SUMMARY:Awal Muharram 2024
DESCRIPTION:
URL:https://sridasmesh.edu.my/event/awal-muharram-2024/
CATEGORIES:Holiday/s
END:VEVENT
END:VCALENDAR