BEGIN:VCALENDAR
VERSION:2.0
PRODID:-//Sri Dasmesh International School - ECPv5.7.0//NONSGML v1.0//EN
CALSCALE:GREGORIAN
METHOD:PUBLISH
X-WR-CALNAME:Sri Dasmesh International School
X-ORIGINAL-URL:https://sridasmesh.edu.my
X-WR-CALDESC:Events for Sri Dasmesh International School
BEGIN:VTIMEZONE
TZID:Asia/Shanghai
BEGIN:STANDARD
TZOFFSETFROM:+0800
TZOFFSETTO:+0800
TZNAME:CST
DTSTART:20230101T000000
END:STANDARD
END:VTIMEZONE
BEGIN:VEVENT
DTSTART;VALUE=DATE:20230826
DTEND;VALUE=DATE:20230904
DTSTAMP:20260423T200448
CREATED:20221228T160757Z
LAST-MODIFIED:20221228T160757Z
UID:10415-1693008000-1693785599@sridasmesh.edu.my
SUMMARY:2nd Term Break
DESCRIPTION:
URL:https://sridasmesh.edu.my/event/2nd-term-break-2/
CATEGORIES:Holiday/s
END:VEVENT
END:VCALENDAR