BEGIN:VCALENDAR
VERSION:2.0
PRODID:-//Sri Dasmesh International School - ECPv5.7.0//NONSGML v1.0//EN
CALSCALE:GREGORIAN
METHOD:PUBLISH
X-WR-CALNAME:Sri Dasmesh International School
X-ORIGINAL-URL:https://sridasmesh.edu.my
X-WR-CALDESC:Events for Sri Dasmesh International School
BEGIN:VTIMEZONE
TZID:Asia/Shanghai
BEGIN:STANDARD
TZOFFSETFROM:+0800
TZOFFSETTO:+0800
TZNAME:CST
DTSTART:20220101T000000
END:STANDARD
END:VTIMEZONE
BEGIN:VEVENT
DTSTART;VALUE=DATE:20221117
DTEND;VALUE=DATE:20221118
DTSTAMP:20260424T060853
CREATED:20221228T162639Z
LAST-MODIFIED:20221228T162639Z
UID:10456-1668643200-1668729599@sridasmesh.edu.my
SUMMARY:Y-End Progress  Review
DESCRIPTION:
URL:https://sridasmesh.edu.my/event/y-end-progress-review-3/
CATEGORIES:Event
END:VEVENT
END:VCALENDAR