BEGIN:VCALENDAR
VERSION:2.0
PRODID:-//Sri Dasmesh International School - ECPv5.7.0//NONSGML v1.0//EN
CALSCALE:GREGORIAN
METHOD:PUBLISH
X-WR-CALNAME:Sri Dasmesh International School
X-ORIGINAL-URL:https://sridasmesh.edu.my
X-WR-CALDESC:Events for Sri Dasmesh International School
BEGIN:VTIMEZONE
TZID:Asia/Shanghai
BEGIN:STANDARD
TZOFFSETFROM:+0800
TZOFFSETTO:+0800
TZNAME:CST
DTSTART:20240101T000000
END:STANDARD
END:VTIMEZONE
BEGIN:VEVENT
DTSTART;VALUE=DATE:20240522
DTEND;VALUE=DATE:20240523
DTSTAMP:20260421T101053
CREATED:20231217T141117Z
LAST-MODIFIED:20231217T141117Z
UID:14541-1716336000-1716422399@sridasmesh.edu.my
SUMMARY:Wesak Day 2024
DESCRIPTION:
URL:https://sridasmesh.edu.my/event/wesak-day-2024/
CATEGORIES:Holiday/s
END:VEVENT
END:VCALENDAR