BEGIN:VCALENDAR
VERSION:2.0
PRODID:-//Sri Dasmesh International School - ECPv5.7.0//NONSGML v1.0//EN
CALSCALE:GREGORIAN
METHOD:PUBLISH
X-WR-CALNAME:Sri Dasmesh International School
X-ORIGINAL-URL:https://sridasmesh.edu.my
X-WR-CALDESC:Events for Sri Dasmesh International School
BEGIN:VTIMEZONE
TZID:Asia/Shanghai
BEGIN:STANDARD
TZOFFSETFROM:+0800
TZOFFSETTO:+0800
TZNAME:CST
DTSTART:20250101T000000
END:STANDARD
END:VTIMEZONE
BEGIN:VEVENT
DTSTART;VALUE=DATE:20250912
DTEND;VALUE=DATE:20250913
DTSTAMP:20260423T090332
CREATED:20250131T143250Z
LAST-MODIFIED:20250131T143250Z
UID:17683-1757635200-1757721599@sridasmesh.edu.my
SUMMARY:Thanksgiving Day
DESCRIPTION:
URL:https://sridasmesh.edu.my/event/thanksgiving-day-3/
CATEGORIES:Event
END:VEVENT
END:VCALENDAR