BEGIN:VCALENDAR
VERSION:2.0
PRODID:-//Sri Dasmesh International School - ECPv5.7.0//NONSGML v1.0//EN
CALSCALE:GREGORIAN
METHOD:PUBLISH
X-WR-CALNAME:Sri Dasmesh International School
X-ORIGINAL-URL:https://sridasmesh.edu.my
X-WR-CALDESC:Events for Sri Dasmesh International School
BEGIN:VTIMEZONE
TZID:Asia/Shanghai
BEGIN:STANDARD
TZOFFSETFROM:+0800
TZOFFSETTO:+0800
TZNAME:CST
DTSTART:20220101T000000
END:STANDARD
END:VTIMEZONE
BEGIN:VEVENT
DTSTART;VALUE=DATE:20221124
DTEND;VALUE=DATE:20221126
DTSTAMP:20260424T010514
CREATED:20220208T142326Z
LAST-MODIFIED:20220208T142326Z
UID:8863-1669248000-1669420799@sridasmesh.edu.my
SUMMARY:Teachers in School
DESCRIPTION:
URL:https://sridasmesh.edu.my/event/teachers-in-school-2/
CATEGORIES:Event
END:VEVENT
END:VCALENDAR