BEGIN:VCALENDAR
VERSION:2.0
PRODID:-//Sri Dasmesh International School - ECPv5.7.0//NONSGML v1.0//EN
CALSCALE:GREGORIAN
METHOD:PUBLISH
X-WR-CALNAME:Sri Dasmesh International School
X-ORIGINAL-URL:https://sridasmesh.edu.my
X-WR-CALDESC:Events for Sri Dasmesh International School
BEGIN:VTIMEZONE
TZID:Asia/Shanghai
BEGIN:STANDARD
TZOFFSETFROM:+0800
TZOFFSETTO:+0800
TZNAME:CST
DTSTART:20240101T000000
END:STANDARD
END:VTIMEZONE
BEGIN:VEVENT
DTSTART;VALUE=DATE:20240701
DTEND;VALUE=DATE:20240801
DTSTAMP:20260421T101054
CREATED:20231217T132822Z
LAST-MODIFIED:20231217T134922Z
UID:14461-1719792000-1722470399@sridasmesh.edu.my
SUMMARY:Student  Excursions 2024
DESCRIPTION:
URL:https://sridasmesh.edu.my/event/student-excursions-2024/
CATEGORIES:Event
END:VEVENT
END:VCALENDAR