BEGIN:VCALENDAR
VERSION:2.0
PRODID:-//Sri Dasmesh International School - ECPv5.7.0//NONSGML v1.0//EN
CALSCALE:GREGORIAN
METHOD:PUBLISH
X-WR-CALNAME:Sri Dasmesh International School
X-ORIGINAL-URL:https://sridasmesh.edu.my
X-WR-CALDESC:Events for Sri Dasmesh International School
BEGIN:VTIMEZONE
TZID:Asia/Shanghai
BEGIN:STANDARD
TZOFFSETFROM:+0800
TZOFFSETTO:+0800
TZNAME:CST
DTSTART:20240101T000000
END:STANDARD
END:VTIMEZONE
BEGIN:VEVENT
DTSTART;VALUE=DATE:20240724
DTEND;VALUE=DATE:20240729
DTSTAMP:20260421T115312
CREATED:20231217T132822Z
LAST-MODIFIED:20231217T134922Z
UID:14460-1721779200-1722211199@sridasmesh.edu.my
SUMMARY:Scouts Camp @ Singapore (Y8  - Y10) 2024
DESCRIPTION:
URL:https://sridasmesh.edu.my/event/scouts-camp-singapore-y8-y10-2024/
CATEGORIES:Event
END:VEVENT
END:VCALENDAR