BEGIN:VCALENDAR
VERSION:2.0
PRODID:-//Sri Dasmesh International School - ECPv5.7.0//NONSGML v1.0//EN
CALSCALE:GREGORIAN
METHOD:PUBLISH
X-WR-CALNAME:Sri Dasmesh International School
X-ORIGINAL-URL:https://sridasmesh.edu.my
X-WR-CALDESC:Events for Sri Dasmesh International School
BEGIN:VTIMEZONE
TZID:Asia/Shanghai
BEGIN:STANDARD
TZOFFSETFROM:+0800
TZOFFSETTO:+0800
TZNAME:CST
DTSTART:20260101T000000
END:STANDARD
END:VTIMEZONE
BEGIN:VEVENT
DTSTART;VALUE=DATE:20260207
DTEND;VALUE=DATE:20260208
DTSTAMP:20260421T052738
CREATED:20260121T063200Z
LAST-MODIFIED:20260122T010849Z
UID:19823-1770422400-1770508799@sridasmesh.edu.my
SUMMARY:S.A.F.E Workshops for Parents & Teachers Part 1 (Support Awareness & Family Engagement) 2026
DESCRIPTION:
URL:https://sridasmesh.edu.my/event/s-a-f-e-workshops-for-parents-teachers-part-1-support-awareness-family-engagement-2026/
CATEGORIES:Event
END:VEVENT
END:VCALENDAR