BEGIN:VCALENDAR
VERSION:2.0
PRODID:-//Sri Dasmesh International School - ECPv5.7.0//NONSGML v1.0//EN
CALSCALE:GREGORIAN
METHOD:PUBLISH
X-WR-CALNAME:Sri Dasmesh International School
X-ORIGINAL-URL:https://sridasmesh.edu.my
X-WR-CALDESC:Events for Sri Dasmesh International School
BEGIN:VTIMEZONE
TZID:Asia/Shanghai
BEGIN:STANDARD
TZOFFSETFROM:+0800
TZOFFSETTO:+0800
TZNAME:CST
DTSTART:20220101T000000
END:STANDARD
END:VTIMEZONE
BEGIN:VEVENT
DTSTART;VALUE=DATE:20220221
DTEND;VALUE=DATE:20220222
DTSTAMP:20260424T104733
CREATED:20220208T071016Z
LAST-MODIFIED:20220208T071056Z
UID:8767-1645401600-1645487999@sridasmesh.edu.my
SUMMARY:Random Acts of Kindness  Day
DESCRIPTION:
URL:https://sridasmesh.edu.my/event/random-acts-of-kindness-day/
CATEGORIES:Event
END:VEVENT
END:VCALENDAR