BEGIN:VCALENDAR
VERSION:2.0
PRODID:-//Sri Dasmesh International School - ECPv5.7.0//NONSGML v1.0//EN
CALSCALE:GREGORIAN
METHOD:PUBLISH
X-WR-CALNAME:Sri Dasmesh International School
X-ORIGINAL-URL:https://sridasmesh.edu.my
X-WR-CALDESC:Events for Sri Dasmesh International School
BEGIN:VTIMEZONE
TZID:UTC
BEGIN:STANDARD
TZOFFSETFROM:+0000
TZOFFSETTO:+0000
TZNAME:UTC
DTSTART:20210101T000000
END:STANDARD
END:VTIMEZONE
BEGIN:VEVENT
DTSTART;VALUE=DATE:20211231
DTEND;VALUE=DATE:20220101
DTSTAMP:20260424T151409
CREATED:20210315T060741Z
LAST-MODIFIED:20210315T060741Z
UID:7816-1640908800-1640995199@sridasmesh.edu.my
SUMMARY:Orientation Day Y2022
DESCRIPTION:
URL:https://sridasmesh.edu.my/event/orientation-day-y2022/
CATEGORIES:Event
END:VEVENT
END:VCALENDAR