BEGIN:VCALENDAR
VERSION:2.0
PRODID:-//Sri Dasmesh International School - ECPv5.7.0//NONSGML v1.0//EN
CALSCALE:GREGORIAN
METHOD:PUBLISH
X-WR-CALNAME:Sri Dasmesh International School
X-ORIGINAL-URL:https://sridasmesh.edu.my
X-WR-CALDESC:Events for Sri Dasmesh International School
BEGIN:VTIMEZONE
TZID:Asia/Shanghai
BEGIN:STANDARD
TZOFFSETFROM:+0800
TZOFFSETTO:+0800
TZNAME:CST
DTSTART:20220101T000000
END:STANDARD
END:VTIMEZONE
BEGIN:VEVENT
DTSTART;VALUE=DATE:20220419
DTEND;VALUE=DATE:20220420
DTSTAMP:20260423T234901
CREATED:20220208T072004Z
LAST-MODIFIED:20220208T072048Z
UID:8785-1650326400-1650412799@sridasmesh.edu.my
SUMMARY:Nuzul Al-Quran
DESCRIPTION:
URL:https://sridasmesh.edu.my/event/nuzul-al-quran-2/
CATEGORIES:Public Holiday
END:VEVENT
END:VCALENDAR