BEGIN:VCALENDAR
VERSION:2.0
PRODID:-//Sri Dasmesh International School - ECPv5.7.0//NONSGML v1.0//EN
CALSCALE:GREGORIAN
METHOD:PUBLISH
X-WR-CALNAME:Sri Dasmesh International School
X-ORIGINAL-URL:https://sridasmesh.edu.my
X-WR-CALDESC:Events for Sri Dasmesh International School
BEGIN:VTIMEZONE
TZID:Asia/Shanghai
BEGIN:STANDARD
TZOFFSETFROM:+0800
TZOFFSETTO:+0800
TZNAME:CST
DTSTART:20250101T000000
END:STANDARD
END:VTIMEZONE
BEGIN:VEVENT
DTSTART;VALUE=DATE:20250102
DTEND;VALUE=DATE:20250103
DTSTAMP:20260421T045508
CREATED:20231217T132525Z
LAST-MODIFIED:20231217T134827Z
UID:14451-1735776000-1735862399@sridasmesh.edu.my
SUMMARY:New School Year 2025
DESCRIPTION:
URL:https://sridasmesh.edu.my/event/new-school-year-2025-2/
CATEGORIES:Event
END:VEVENT
END:VCALENDAR