BEGIN:VCALENDAR
VERSION:2.0
PRODID:-//Sri Dasmesh International School - ECPv5.7.0//NONSGML v1.0//EN
CALSCALE:GREGORIAN
METHOD:PUBLISH
X-WR-CALNAME:Sri Dasmesh International School
X-ORIGINAL-URL:https://sridasmesh.edu.my
X-WR-CALDESC:Events for Sri Dasmesh International School
BEGIN:VTIMEZONE
TZID:Asia/Shanghai
BEGIN:STANDARD
TZOFFSETFROM:+0800
TZOFFSETTO:+0800
TZNAME:CST
DTSTART:20250101T000000
END:STANDARD
END:VTIMEZONE
BEGIN:VEVENT
DTSTART;VALUE=DATE:20250609
DTEND;VALUE=DATE:20250613
DTSTAMP:20260423T184601
CREATED:20250131T142641Z
LAST-MODIFIED:20250131T142641Z
UID:17667-1749427200-1749772799@sridasmesh.edu.my
SUMMARY:Mid Year Exam Y1-Y8
DESCRIPTION:
URL:https://sridasmesh.edu.my/event/mid-year-exam-y1-y8-2/
CATEGORIES:Event
END:VEVENT
END:VCALENDAR