BEGIN:VCALENDAR
VERSION:2.0
PRODID:-//Sri Dasmesh International School - ECPv5.7.0//NONSGML v1.0//EN
CALSCALE:GREGORIAN
METHOD:PUBLISH
X-WR-CALNAME:Sri Dasmesh International School
X-ORIGINAL-URL:https://sridasmesh.edu.my
X-WR-CALDESC:Events for Sri Dasmesh International School
BEGIN:VTIMEZONE
TZID:Asia/Shanghai
BEGIN:STANDARD
TZOFFSETFROM:+0800
TZOFFSETTO:+0800
TZNAME:CST
DTSTART:20220101T000000
END:STANDARD
END:VTIMEZONE
BEGIN:VEVENT
DTSTART;VALUE=DATE:20220613
DTEND;VALUE=DATE:20220618
DTSTAMP:20260424T010512
CREATED:20220208T074143Z
LAST-MODIFIED:20220208T074245Z
UID:8799-1655078400-1655510399@sridasmesh.edu.my
SUMMARY:Mid Year Exam Y1-8
DESCRIPTION:
URL:https://sridasmesh.edu.my/event/mid-year-exam-y1-8/
CATEGORIES:Event
END:VEVENT
END:VCALENDAR