BEGIN:VCALENDAR
VERSION:2.0
PRODID:-//Sri Dasmesh International School - ECPv5.7.0//NONSGML v1.0//EN
CALSCALE:GREGORIAN
METHOD:PUBLISH
X-WR-CALNAME:Sri Dasmesh International School
X-ORIGINAL-URL:https://sridasmesh.edu.my
X-WR-CALDESC:Events for Sri Dasmesh International School
BEGIN:VTIMEZONE
TZID:Asia/Shanghai
BEGIN:STANDARD
TZOFFSETFROM:+0800
TZOFFSETTO:+0800
TZNAME:CST
DTSTART:20240101T000000
END:STANDARD
END:VTIMEZONE
BEGIN:VEVENT
DTSTART;VALUE=DATE:20240805
DTEND;VALUE=DATE:20240810
DTSTAMP:20260421T132708
CREATED:20231217T132920Z
LAST-MODIFIED:20231217T134937Z
UID:14464-1722816000-1723247999@sridasmesh.edu.my
SUMMARY:Mental Maze Challenge M2C 2024
DESCRIPTION:
URL:https://sridasmesh.edu.my/event/mental-maze-challenge-m2c-2024/
CATEGORIES:Event
END:VEVENT
END:VCALENDAR