BEGIN:VCALENDAR
VERSION:2.0
PRODID:-//Sri Dasmesh International School - ECPv5.7.0//NONSGML v1.0//EN
CALSCALE:GREGORIAN
METHOD:PUBLISH
X-WR-CALNAME:Sri Dasmesh International School
X-ORIGINAL-URL:https://sridasmesh.edu.my
X-WR-CALDESC:Events for Sri Dasmesh International School
BEGIN:VTIMEZONE
TZID:Asia/Shanghai
BEGIN:STANDARD
TZOFFSETFROM:+0800
TZOFFSETTO:+0800
TZNAME:CST
DTSTART:20240101T000000
END:STANDARD
END:VTIMEZONE
BEGIN:VEVENT
DTSTART;VALUE=DATE:20240810
DTEND;VALUE=DATE:20240811
DTSTAMP:20260421T101409
CREATED:20231217T132424Z
LAST-MODIFIED:20231217T134643Z
UID:14438-1723248000-1723334399@sridasmesh.edu.my
SUMMARY:Keertan on Wheels @ Music Tour 2024
DESCRIPTION:
URL:https://sridasmesh.edu.my/event/keertan-on-wheels-music-tour-2024/
CATEGORIES:Event
END:VEVENT
END:VCALENDAR