BEGIN:VCALENDAR
VERSION:2.0
PRODID:-//Sri Dasmesh International School - ECPv5.7.0//NONSGML v1.0//EN
CALSCALE:GREGORIAN
METHOD:PUBLISH
X-WR-CALNAME:Sri Dasmesh International School
X-ORIGINAL-URL:https://sridasmesh.edu.my
X-WR-CALDESC:Events for Sri Dasmesh International School
BEGIN:VTIMEZONE
TZID:Asia/Shanghai
BEGIN:STANDARD
TZOFFSETFROM:+0800
TZOFFSETTO:+0800
TZNAME:CST
DTSTART:20230101T000000
END:STANDARD
END:VTIMEZONE
BEGIN:VEVENT
DTSTART;VALUE=DATE:20230629
DTEND;VALUE=DATE:20230630
DTSTAMP:20260423T212239
CREATED:20221228T155555Z
LAST-MODIFIED:20221228T155555Z
UID:10397-1687996800-1688083199@sridasmesh.edu.my
SUMMARY:Hari Raya Haji
DESCRIPTION:
URL:https://sridasmesh.edu.my/event/hari-raya-haji-3/
CATEGORIES:Public Holiday
END:VEVENT
END:VCALENDAR