BEGIN:VCALENDAR
VERSION:2.0
PRODID:-//Sri Dasmesh International School - ECPv5.7.0//NONSGML v1.0//EN
CALSCALE:GREGORIAN
METHOD:PUBLISH
X-WR-CALNAME:Sri Dasmesh International School
X-ORIGINAL-URL:https://sridasmesh.edu.my
X-WR-CALDESC:Events for Sri Dasmesh International School
BEGIN:VTIMEZONE
TZID:Asia/Shanghai
BEGIN:STANDARD
TZOFFSETFROM:+0800
TZOFFSETTO:+0800
TZNAME:CST
DTSTART:20240101T000000
END:STANDARD
END:VTIMEZONE
BEGIN:VEVENT
DTSTART;VALUE=DATE:20241127
DTEND;VALUE=DATE:20241128
DTSTAMP:20260421T020603
CREATED:20231217T141310Z
LAST-MODIFIED:20231217T141310Z
UID:14552-1732665600-1732751999@sridasmesh.edu.my
SUMMARY:Guru Nanak’s  Birthday 2024
DESCRIPTION:
URL:https://sridasmesh.edu.my/event/guru-nanaks-birthday-2024/
CATEGORIES:Holiday/s
END:VEVENT
END:VCALENDAR