BEGIN:VCALENDAR
VERSION:2.0
PRODID:-//Sri Dasmesh International School - ECPv5.7.0//NONSGML v1.0//EN
CALSCALE:GREGORIAN
METHOD:PUBLISH
X-WR-CALNAME:Sri Dasmesh International School
X-ORIGINAL-URL:https://sridasmesh.edu.my
X-WR-CALDESC:Events for Sri Dasmesh International School
BEGIN:VTIMEZONE
TZID:Asia/Shanghai
BEGIN:STANDARD
TZOFFSETFROM:+0800
TZOFFSETTO:+0800
TZNAME:CST
DTSTART:20230101T000000
END:STANDARD
END:VTIMEZONE
BEGIN:VEVENT
DTSTART;VALUE=DATE:20230103
DTEND;VALUE=DATE:20230104
DTSTAMP:20260424T021505
CREATED:20221228T153815Z
LAST-MODIFIED:20221228T153815Z
UID:10341-1672704000-1672790399@sridasmesh.edu.my
SUMMARY:First Day of School
DESCRIPTION:
URL:https://sridasmesh.edu.my/event/first-day-of-school/
CATEGORIES:Event
END:VEVENT
END:VCALENDAR