BEGIN:VCALENDAR
VERSION:2.0
PRODID:-//Sri Dasmesh International School - ECPv5.7.0//NONSGML v1.0//EN
CALSCALE:GREGORIAN
METHOD:PUBLISH
X-WR-CALNAME:Sri Dasmesh International School
X-ORIGINAL-URL:https://sridasmesh.edu.my
X-WR-CALDESC:Events for Sri Dasmesh International School
BEGIN:VTIMEZONE
TZID:Asia/Shanghai
BEGIN:STANDARD
TZOFFSETFROM:+0800
TZOFFSETTO:+0800
TZNAME:CST
DTSTART:20240101T000000
END:STANDARD
END:VTIMEZONE
BEGIN:VEVENT
DTSTART;VALUE=DATE:20240504
DTEND;VALUE=DATE:20240505
DTSTAMP:20260421T132709
CREATED:20231217T132351Z
LAST-MODIFIED:20231217T134627Z
UID:14434-1714780800-1714867199@sridasmesh.edu.my
SUMMARY:Entrance Evaluation Year 2025
DESCRIPTION:
URL:https://sridasmesh.edu.my/event/entrance-evaluation-year-2025/
CATEGORIES:Event
END:VEVENT
END:VCALENDAR