BEGIN:VCALENDAR
VERSION:2.0
PRODID:-//Sri Dasmesh International School - ECPv5.7.0//NONSGML v1.0//EN
CALSCALE:GREGORIAN
METHOD:PUBLISH
X-WR-CALNAME:Sri Dasmesh International School
X-ORIGINAL-URL:https://sridasmesh.edu.my
X-WR-CALDESC:Events for Sri Dasmesh International School
BEGIN:VTIMEZONE
TZID:Asia/Shanghai
BEGIN:STANDARD
TZOFFSETFROM:+0800
TZOFFSETTO:+0800
TZNAME:CST
DTSTART:20220101T000000
END:STANDARD
END:VTIMEZONE
BEGIN:VEVENT
DTSTART;VALUE=DATE:20220709
DTEND;VALUE=DATE:20220710
DTSTAMP:20260423T235151
CREATED:20220208T074402Z
LAST-MODIFIED:20220208T074402Z
UID:8803-1657324800-1657411199@sridasmesh.edu.my
SUMMARY:Entrance Evaluation – for Y2023 & Keertan on Wheels (Music Tour)
DESCRIPTION:
URL:https://sridasmesh.edu.my/event/entrance-evaluation-for-y2023-keertan-on-wheels-music-tour/
CATEGORIES:Event
END:VEVENT
END:VCALENDAR