BEGIN:VCALENDAR
VERSION:2.0
PRODID:-//Sri Dasmesh International School - ECPv5.7.0//NONSGML v1.0//EN
CALSCALE:GREGORIAN
METHOD:PUBLISH
X-WR-CALNAME:Sri Dasmesh International School
X-ORIGINAL-URL:https://sridasmesh.edu.my
X-WR-CALDESC:Events for Sri Dasmesh International School
BEGIN:VTIMEZONE
TZID:Asia/Shanghai
BEGIN:STANDARD
TZOFFSETFROM:+0800
TZOFFSETTO:+0800
TZNAME:CST
DTSTART:20230101T000000
END:STANDARD
END:VTIMEZONE
BEGIN:VEVENT
DTSTART;VALUE=DATE:20231225
DTEND;VALUE=DATE:20231227
DTSTAMP:20260423T173154
CREATED:20221228T163244Z
LAST-MODIFIED:20221228T163244Z
UID:10472-1703462400-1703635199@sridasmesh.edu.my
SUMMARY:Christmas
DESCRIPTION:
URL:https://sridasmesh.edu.my/event/christmas-2/
CATEGORIES:Public Holiday
END:VEVENT
END:VCALENDAR