BEGIN:VCALENDAR
VERSION:2.0
PRODID:-//Sri Dasmesh International School - ECPv5.7.0//NONSGML v1.0//EN
CALSCALE:GREGORIAN
METHOD:PUBLISH
X-WR-CALNAME:Sri Dasmesh International School
X-ORIGINAL-URL:https://sridasmesh.edu.my
X-WR-CALDESC:Events for Sri Dasmesh International School
BEGIN:VTIMEZONE
TZID:Asia/Shanghai
BEGIN:STANDARD
TZOFFSETFROM:+0800
TZOFFSETTO:+0800
TZNAME:CST
DTSTART:20230101T000000
END:STANDARD
END:VTIMEZONE
BEGIN:VEVENT
DTSTART;VALUE=DATE:20231106
DTEND;VALUE=DATE:20231111
DTSTAMP:20260423T200250
CREATED:20221228T162423Z
LAST-MODIFIED:20221228T163325Z
UID:10453-1699228800-1699660799@sridasmesh.edu.my
SUMMARY:Annual Games  Carnival
DESCRIPTION:
URL:https://sridasmesh.edu.my/event/annual-games-carnival-3/
CATEGORIES:Event
END:VEVENT
END:VCALENDAR