BEGIN:VCALENDAR
VERSION:2.0
PRODID:-//Sri Dasmesh International School - ECPv5.7.0//NONSGML v1.0//EN
CALSCALE:GREGORIAN
METHOD:PUBLISH
X-WR-CALNAME:Sri Dasmesh International School
X-ORIGINAL-URL:https://sridasmesh.edu.my
X-WR-CALDESC:Events for Sri Dasmesh International School
BEGIN:VTIMEZONE
TZID:Asia/Shanghai
BEGIN:STANDARD
TZOFFSETFROM:+0800
TZOFFSETTO:+0800
TZNAME:CST
DTSTART:20220101T000000
END:STANDARD
END:VTIMEZONE
BEGIN:VEVENT
DTSTART;VALUE=DATE:20220321
DTEND;VALUE=DATE:20220326
DTSTAMP:20260424T060853
CREATED:20220208T071208Z
LAST-MODIFIED:20220208T071520Z
UID:8772-1647820800-1648252799@sridasmesh.edu.my
SUMMARY:1st Term Exam
DESCRIPTION:
URL:https://sridasmesh.edu.my/event/1st-term-exam/
CATEGORIES:Event
END:VEVENT
END:VCALENDAR